Package: lemur Version: 1.5.0 Command: /home/biocbuild/bbs-3.21-bioc/R/bin/R CMD build --keep-empty-dirs --no-resave-data lemur StartedAt: 2025-02-03 17:59:59 -0500 (Mon, 03 Feb 2025) EndedAt: 2025-02-03 18:01:32 -0500 (Mon, 03 Feb 2025) EllapsedTime: 93.1 seconds RetCode: 0 Status: OK PackageFile: lemur_1.5.0.tar.gz PackageFileSize: 3.319 MiB