Package: lemur Version: 1.5.0 Command: /home/biocbuild/bbs-3.21-bioc/R/bin/R CMD check --install=check:lemur.install-out.txt --library=/home/biocbuild/bbs-3.21-bioc/R/site-library --timings lemur_1.5.0.tar.gz StartedAt: 2025-02-09 23:37:20 -0500 (Sun, 09 Feb 2025) EndedAt: 2025-02-09 23:42:46 -0500 (Sun, 09 Feb 2025) EllapsedTime: 325.7 seconds RetCode: 0 Status: WARNINGS CheckDir: lemur.Rcheck Warnings: 1