Package: lemur Version: 1.5.0 Command: rm -rf lemur.buildbin-libdir && mkdir lemur.buildbin-libdir && E:\biocbuild\bbs-3.21-bioc\R\bin\R.exe CMD INSTALL --build --library=lemur.buildbin-libdir lemur_1.5.0.tar.gz StartedAt: 2025-02-04 08:15:12 -0500 (Tue, 04 Feb 2025) EndedAt: 2025-02-04 08:16:20 -0500 (Tue, 04 Feb 2025) EllapsedTime: 68.2 seconds RetCode: 0 Status: OK PackageFile: lemur_1.5.0.zip PackageFileSize: 3.951 MiB