Package: les Version: 1.57.0 Command: /Library/Frameworks/R.framework/Resources/bin/R CMD build --keep-empty-dirs --no-resave-data les StartedAt: 2025-02-09 16:45:47 -0500 (Sun, 09 Feb 2025) EndedAt: 2025-02-09 16:45:55 -0500 (Sun, 09 Feb 2025) EllapsedTime: 8.1 seconds RetCode: 0 Status: OK PackageFile: les_1.57.0.tar.gz PackageFileSize: 448.8 KiB