Package: les Version: 1.57.0 Command: /Library/Frameworks/R.framework/Resources/bin/R CMD INSTALL les StartedAt: 2025-02-09 15:02:02 -0500 (Sun, 09 Feb 2025) EndedAt: 2025-02-09 15:02:05 -0500 (Sun, 09 Feb 2025) EllapsedTime: 2.7 seconds RetCode: 0 Status: OK