Package: les Version: 1.57.0 Command: /home/biocbuild/bbs-3.21-bioc/R/bin/R CMD build --keep-empty-dirs --no-resave-data les StartedAt: 2025-02-09 17:51:30 -0500 (Sun, 09 Feb 2025) EndedAt: 2025-02-09 17:51:46 -0500 (Sun, 09 Feb 2025) EllapsedTime: 16.0 seconds RetCode: 0 Status: OK PackageFile: les_1.57.0.tar.gz PackageFileSize: 448.2 KiB