Package: les Version: 1.57.0 Command: rm -rf les.buildbin-libdir && mkdir les.buildbin-libdir && E:\biocbuild\bbs-3.21-bioc\R\bin\R.exe CMD INSTALL --build --library=les.buildbin-libdir les_1.57.0.tar.gz StartedAt: 2025-02-10 08:01:50 -0500 (Mon, 10 Feb 2025) EndedAt: 2025-02-10 08:02:10 -0500 (Mon, 10 Feb 2025) EllapsedTime: 20.1 seconds RetCode: 0 Status: OK PackageFile: les_1.57.0.zip PackageFileSize: 570.9 KiB