Package: les Version: 1.57.0 Command: E:\biocbuild\bbs-3.21-bioc\R\bin\R.exe CMD INSTALL les StartedAt: 2025-02-12 15:22:39 -0500 (Wed, 12 Feb 2025) EndedAt: 2025-02-12 15:22:58 -0500 (Wed, 12 Feb 2025) EllapsedTime: 18.8 seconds RetCode: 0 Status: OK