Package: levi Version: 1.25.0 Command: /Library/Frameworks/R.framework/Resources/bin/R CMD build --keep-empty-dirs --no-resave-data levi StartedAt: 2025-02-09 16:45:49 -0500 (Sun, 09 Feb 2025) EndedAt: 2025-02-09 16:46:50 -0500 (Sun, 09 Feb 2025) EllapsedTime: 60.7 seconds RetCode: 0 Status: OK PackageFile: levi_1.25.0.tar.gz PackageFileSize: 2.782 MiB