Package: levi Version: 1.25.0 Command: /Library/Frameworks/R.framework/Resources/bin/R CMD check --install=check:levi.install-out.txt --library=/Library/Frameworks/R.framework/Resources/library --no-vignettes --timings levi_1.25.0.tar.gz StartedAt: 2025-02-12 19:55:13 -0500 (Wed, 12 Feb 2025) EndedAt: 2025-02-12 19:55:48 -0500 (Wed, 12 Feb 2025) EllapsedTime: 35.5 seconds RetCode: 0 Status: WARNINGS CheckDir: levi.Rcheck Warnings: 1