Package: levi Version: 1.25.0 Command: /home/biocbuild/R/R/bin/R CMD build --keep-empty-dirs --no-resave-data levi StartedAt: 2025-01-28 23:54:22 -0000 (Tue, 28 Jan 2025) EndedAt: 2025-01-28 23:57:28 -0000 (Tue, 28 Jan 2025) EllapsedTime: 186.1 seconds RetCode: 0 Status: OK PackageFile: levi_1.25.0.tar.gz PackageFileSize: 2.24 MiB