Package: levi Version: 1.25.0 Command: /home/biocbuild/R/R/bin/R CMD check --install=check:levi.install-out.txt --library=/home/biocbuild/R/R/site-library --no-vignettes --timings levi_1.25.0.tar.gz StartedAt: 2025-01-28 11:54:31 -0000 (Tue, 28 Jan 2025) EndedAt: 2025-01-28 11:56:07 -0000 (Tue, 28 Jan 2025) EllapsedTime: 96.1 seconds RetCode: 0 Status: WARNINGS CheckDir: levi.Rcheck Warnings: 5