Package: levi Version: 1.25.0 Command: /Library/Frameworks/R.framework/Resources/bin/R CMD check --install=check:levi.install-out.txt --library=/Library/Frameworks/R.framework/Resources/library --no-vignettes --timings levi_1.25.0.tar.gz StartedAt: 2025-02-09 21:33:56 -0500 (Sun, 09 Feb 2025) EndedAt: 2025-02-09 21:35:28 -0500 (Sun, 09 Feb 2025) EllapsedTime: 91.9 seconds RetCode: 0 Status: OK CheckDir: levi.Rcheck Warnings: 0