Package: levi Version: 1.25.0 Command: /home/biocbuild/bbs-3.21-bioc/R/bin/R CMD build --keep-empty-dirs --no-resave-data levi StartedAt: 2025-02-12 17:48:18 -0500 (Wed, 12 Feb 2025) EndedAt: 2025-02-12 17:50:44 -0500 (Wed, 12 Feb 2025) EllapsedTime: 146.2 seconds RetCode: 0 Status: OK PackageFile: levi_1.25.0.tar.gz PackageFileSize: 2.774 MiB