Package: levi Version: 1.25.0 Command: chmod a+r levi -R && E:\biocbuild\bbs-3.21-bioc\R\bin\R.exe CMD build --keep-empty-dirs --no-resave-data levi StartedAt: 2025-02-12 19:37:59 -0500 (Wed, 12 Feb 2025) EndedAt: 2025-02-12 19:40:47 -0500 (Wed, 12 Feb 2025) EllapsedTime: 168.0 seconds RetCode: 0 Status: OK PackageFile: levi_1.25.0.tar.gz PackageFileSize: 2.677 MiB