Package: levi Version: 1.25.0 Command: E:\biocbuild\bbs-3.21-bioc\R\bin\R.exe CMD check --no-multiarch --install=check:levi.install-out.txt --library=E:\biocbuild\bbs-3.21-bioc\R\library --no-vignettes --timings levi_1.25.0.tar.gz StartedAt: 2025-02-13 02:33:32 -0500 (Thu, 13 Feb 2025) EndedAt: 2025-02-13 02:35:26 -0500 (Thu, 13 Feb 2025) EllapsedTime: 114.1 seconds RetCode: 0 Status: OK CheckDir: levi.Rcheck Warnings: 0