Package: limma Version: 3.63.3 Command: rm -rf limma.buildbin-libdir && mkdir limma.buildbin-libdir && /Users/biocbuild/BBS/utils/build-universal.sh limma_3.63.3.tar.gz /Library/Frameworks/R.framework/Resources/bin/R limma.buildbin-libdir StartedAt: 2025-02-03 22:54:59 -0500 (Mon, 03 Feb 2025) EndedAt: 2025-02-03 22:55:06 -0500 (Mon, 03 Feb 2025) EllapsedTime: 7.2 seconds RetCode: 0 Status: OK PackageFile: limma_3.63.3.tgz PackageFileSize: 2.993 MiB