Package: limma Version: 3.63.3 Command: /home/biocbuild/R/R/bin/R CMD INSTALL limma StartedAt: 2025-01-29 19:33:41 -0000 (Wed, 29 Jan 2025) EndedAt: 2025-01-29 19:34:11 -0000 (Wed, 29 Jan 2025) EllapsedTime: 29.8 seconds RetCode: 0 Status: OK