Package: limma Version: 3.63.3 Command: /Library/Frameworks/R.framework/Resources/bin/R CMD check --install=check:limma.install-out.txt --library=/Library/Frameworks/R.framework/Resources/library --no-vignettes --timings limma_3.63.3.tar.gz StartedAt: 2025-02-09 21:34:29 -0500 (Sun, 09 Feb 2025) EndedAt: 2025-02-09 21:36:19 -0500 (Sun, 09 Feb 2025) EllapsedTime: 109.7 seconds RetCode: 0 Status: OK CheckDir: limma.Rcheck Warnings: 0