Package: limma Version: 3.63.3 Command: /Library/Frameworks/R.framework/Resources/bin/R CMD INSTALL limma StartedAt: 2025-02-09 15:06:17 -0500 (Sun, 09 Feb 2025) EndedAt: 2025-02-09 15:06:50 -0500 (Sun, 09 Feb 2025) EllapsedTime: 33.4 seconds RetCode: 0 Status: OK