Package: limma Version: 3.63.3 Command: /home/biocbuild/bbs-3.21-bioc/R/bin/R CMD build --keep-empty-dirs --no-resave-data limma StartedAt: 2025-02-09 17:51:52 -0500 (Sun, 09 Feb 2025) EndedAt: 2025-02-09 17:52:17 -0500 (Sun, 09 Feb 2025) EllapsedTime: 24.0 seconds RetCode: 0 Status: OK PackageFile: limma_3.63.3.tar.gz PackageFileSize: 2.685 MiB