Package: limma Version: 3.63.3 Command: /home/biocbuild/bbs-3.21-bioc/R/bin/R CMD check --install=check:limma.install-out.txt --library=/home/biocbuild/bbs-3.21-bioc/R/site-library --timings limma_3.63.3.tar.gz StartedAt: 2025-02-09 23:37:54 -0500 (Sun, 09 Feb 2025) EndedAt: 2025-02-09 23:39:22 -0500 (Sun, 09 Feb 2025) EllapsedTime: 88.1 seconds RetCode: 0 Status: OK CheckDir: limma.Rcheck Warnings: 0