Package: limma Version: 3.63.3 Command: /home/biocbuild/bbs-3.21-bioc/R/bin/R CMD INSTALL limma StartedAt: 2025-02-03 15:12:08 -0500 (Mon, 03 Feb 2025) EndedAt: 2025-02-03 15:12:31 -0500 (Mon, 03 Feb 2025) EllapsedTime: 23.1 seconds RetCode: 0 Status: OK