Package: limma Version: 3.63.3 Command: E:\biocbuild\bbs-3.21-bioc\R\bin\R.exe CMD INSTALL limma StartedAt: 2025-02-03 15:35:45 -0500 (Mon, 03 Feb 2025) EndedAt: 2025-02-03 15:37:37 -0500 (Mon, 03 Feb 2025) EllapsedTime: 112.9 seconds RetCode: 0 Status: OK