Package: limmaGUI Version: 1.83.0 Command: /Library/Frameworks/R.framework/Resources/bin/R CMD build --keep-empty-dirs --no-resave-data limmaGUI StartedAt: 2025-02-09 16:45:58 -0500 (Sun, 09 Feb 2025) EndedAt: 2025-02-09 16:46:09 -0500 (Sun, 09 Feb 2025) EllapsedTime: 11.1 seconds RetCode: 0 Status: OK PackageFile: limmaGUI_1.83.0.tar.gz PackageFileSize: 5.346 MiB