Package: limmaGUI Version: 1.83.0 Command: /Library/Frameworks/R.framework/Resources/bin/R CMD INSTALL limmaGUI StartedAt: 2025-02-09 15:02:44 -0500 (Sun, 09 Feb 2025) EndedAt: 2025-02-09 15:02:53 -0500 (Sun, 09 Feb 2025) EllapsedTime: 9.5 seconds RetCode: 0 Status: OK