Package: limmaGUI Version: 1.83.0 Command: /home/biocbuild/R/R/bin/R CMD INSTALL limmaGUI StartedAt: 2025-01-29 19:34:15 -0000 (Wed, 29 Jan 2025) EndedAt: 2025-01-29 19:34:45 -0000 (Wed, 29 Jan 2025) EllapsedTime: 29.6 seconds RetCode: 0 Status: OK