Package: limmaGUI Version: 1.83.0 Command: chmod a+r limmaGUI -R && E:\biocbuild\bbs-3.21-bioc\R\bin\R.exe CMD build --keep-empty-dirs --no-resave-data limmaGUI StartedAt: 2025-02-12 19:38:28 -0500 (Wed, 12 Feb 2025) EndedAt: 2025-02-12 19:39:12 -0500 (Wed, 12 Feb 2025) EllapsedTime: 44.1 seconds RetCode: 0 Status: OK PackageFile: limmaGUI_1.83.0.tar.gz PackageFileSize: 5.245 MiB