Package: limpca Version: 1.3.0 Command: /Library/Frameworks/R.framework/Resources/bin/R CMD build --keep-empty-dirs --no-resave-data limpca StartedAt: 2025-02-09 16:46:01 -0500 (Sun, 09 Feb 2025) EndedAt: 2025-02-09 16:46:51 -0500 (Sun, 09 Feb 2025) EllapsedTime: 49.6 seconds RetCode: 0 Status: OK PackageFile: limpca_1.3.0.tar.gz PackageFileSize: 5.167 MiB