Package: limpca Version: 1.3.0 Command: rm -rf limpca.buildbin-libdir && mkdir limpca.buildbin-libdir && /Users/biocbuild/BBS/utils/build-universal.sh limpca_1.3.0.tar.gz /Library/Frameworks/R.framework/Resources/bin/R limpca.buildbin-libdir StartedAt: 2025-02-13 00:43:07 -0500 (Thu, 13 Feb 2025) EndedAt: 2025-02-13 00:43:44 -0500 (Thu, 13 Feb 2025) EllapsedTime: 37.3 seconds RetCode: 0 Status: OK PackageFile: limpca_1.3.0.tgz PackageFileSize: 5.05 MiB