Package: limpca Version: 1.3.0 Command: /Library/Frameworks/R.framework/Resources/bin/R CMD check --install=check:limpca.install-out.txt --library=/Library/Frameworks/R.framework/Resources/library --no-vignettes --timings limpca_1.3.0.tar.gz StartedAt: 2025-02-09 21:34:31 -0500 (Sun, 09 Feb 2025) EndedAt: 2025-02-09 21:38:41 -0500 (Sun, 09 Feb 2025) EllapsedTime: 249.5 seconds RetCode: 0 Status: OK CheckDir: limpca.Rcheck Warnings: 0