Package: limpca Version: 1.3.0 Command: /Library/Frameworks/R.framework/Resources/bin/R CMD INSTALL limpca StartedAt: 2025-02-12 15:41:51 -0500 (Wed, 12 Feb 2025) EndedAt: 2025-02-12 15:42:26 -0500 (Wed, 12 Feb 2025) EllapsedTime: 34.4 seconds RetCode: 0 Status: OK