Package: limpca Version: 1.3.0 Command: chmod a+r limpca -R && E:\biocbuild\bbs-3.21-bioc\R\bin\R.exe CMD build --keep-empty-dirs --no-resave-data limpca StartedAt: 2025-02-12 19:38:31 -0500 (Wed, 12 Feb 2025) EndedAt: 2025-02-12 19:42:29 -0500 (Wed, 12 Feb 2025) EllapsedTime: 237.6 seconds RetCode: 0 Status: OK PackageFile: limpca_1.3.0.tar.gz PackageFileSize: 2.304 MiB