Package: limpca Version: 1.3.0 Command: E:\biocbuild\bbs-3.21-bioc\R\bin\R.exe CMD check --no-multiarch --install=check:limpca.install-out.txt --library=E:\biocbuild\bbs-3.21-bioc\R\library --no-vignettes --timings limpca_1.3.0.tar.gz StartedAt: 2025-02-13 02:34:09 -0500 (Thu, 13 Feb 2025) EndedAt: 2025-02-13 02:39:09 -0500 (Thu, 13 Feb 2025) EllapsedTime: 299.2 seconds RetCode: 0 Status: OK CheckDir: limpca.Rcheck Warnings: 0