Package: limpca Version: 1.3.0 Command: E:\biocbuild\bbs-3.21-bioc\R\bin\R.exe CMD INSTALL limpca StartedAt: 2025-02-12 16:56:17 -0500 (Wed, 12 Feb 2025) EndedAt: 2025-02-12 16:56:51 -0500 (Wed, 12 Feb 2025) EllapsedTime: 34.7 seconds RetCode: 0 Status: OK