Package: lionessR Version: 1.21.0 Command: /Library/Frameworks/R.framework/Resources/bin/R CMD build --keep-empty-dirs --no-resave-data lionessR StartedAt: 2025-02-09 16:46:27 -0500 (Sun, 09 Feb 2025) EndedAt: 2025-02-09 16:46:36 -0500 (Sun, 09 Feb 2025) EllapsedTime: 9.1 seconds RetCode: 0 Status: OK PackageFile: lionessR_1.21.0.tar.gz PackageFileSize: 2.85 MiB