Package: lionessR Version: 1.21.0 Command: /home/biocbuild/R/R/bin/R CMD build --keep-empty-dirs --no-resave-data lionessR StartedAt: 2025-01-28 23:55:42 -0000 (Tue, 28 Jan 2025) EndedAt: 2025-01-28 23:56:39 -0000 (Tue, 28 Jan 2025) EllapsedTime: 57.0 seconds RetCode: 0 Status: OK PackageFile: lionessR_1.21.0.tar.gz PackageFileSize: 2.772 MiB