Package: lionessR Version: 1.21.0 Command: /home/biocbuild/R/R/bin/R CMD INSTALL lionessR StartedAt: 2025-01-29 19:43:31 -0000 (Wed, 29 Jan 2025) EndedAt: 2025-01-29 19:43:36 -0000 (Wed, 29 Jan 2025) EllapsedTime: 5.0 seconds RetCode: 0 Status: OK