Package: lionessR Version: 1.21.0 Command: rm -rf lionessR.buildbin-libdir && mkdir lionessR.buildbin-libdir && /Users/biocbuild/BBS/utils/build-universal.sh lionessR_1.21.0.tar.gz /Library/Frameworks/R.framework/Resources/bin/R lionessR.buildbin-libdir StartedAt: 2025-02-13 00:43:13 -0500 (Thu, 13 Feb 2025) EndedAt: 2025-02-13 00:43:19 -0500 (Thu, 13 Feb 2025) EllapsedTime: 5.8 seconds RetCode: 0 Status: OK PackageFile: lionessR_1.21.0.tgz PackageFileSize: 3.431 MiB