Package: lionessR Version: 1.21.0 Command: /Library/Frameworks/R.framework/Resources/bin/R CMD INSTALL lionessR StartedAt: 2025-02-09 15:11:30 -0500 (Sun, 09 Feb 2025) EndedAt: 2025-02-09 15:11:37 -0500 (Sun, 09 Feb 2025) EllapsedTime: 6.5 seconds RetCode: 0 Status: OK