Package: lionessR Version: 1.21.0 Command: rm -rf lionessR.buildbin-libdir && mkdir lionessR.buildbin-libdir && E:\biocbuild\bbs-3.21-bioc\R\bin\R.exe CMD INSTALL --build --library=lionessR.buildbin-libdir lionessR_1.21.0.tar.gz StartedAt: 2025-02-04 08:15:44 -0500 (Tue, 04 Feb 2025) EndedAt: 2025-02-04 08:15:56 -0500 (Tue, 04 Feb 2025) EllapsedTime: 11.7 seconds RetCode: 0 Status: OK PackageFile: lionessR_1.21.0.zip PackageFileSize: 3.357 MiB