Package: lipidr Version: 2.21.0 Maintainer: Ahmed Mohamed MaintainerEmail: mohamed at kuicr.kyoto-u.ac.jp git_url: https://git.bioconductor.org/packages/lipidr git_branch: devel git_last_commit: ce50d70 git_last_commit_date: 2024-10-29 10:36:51 -0500 (Tue, 29 Oct 2024)