Package: lipidr Version: 2.21.0 Command: /Library/Frameworks/R.framework/Resources/bin/R CMD check --install=check:lipidr.install-out.txt --library=/Library/Frameworks/R.framework/Resources/library --no-vignettes --timings lipidr_2.21.0.tar.gz StartedAt: 2025-02-03 20:29:12 -0500 (Mon, 03 Feb 2025) EndedAt: 2025-02-03 20:30:50 -0500 (Mon, 03 Feb 2025) EllapsedTime: 98.4 seconds RetCode: 0 Status: OK CheckDir: lipidr.Rcheck Warnings: 0