Package: lipidr Version: 2.21.0 Command: rm -rf lipidr.buildbin-libdir && mkdir lipidr.buildbin-libdir && /Users/biocbuild/BBS/utils/build-universal.sh lipidr_2.21.0.tar.gz /Library/Frameworks/R.framework/Resources/bin/R lipidr.buildbin-libdir StartedAt: 2025-02-04 00:40:43 -0500 (Tue, 04 Feb 2025) EndedAt: 2025-02-04 00:41:25 -0500 (Tue, 04 Feb 2025) EllapsedTime: 41.7 seconds RetCode: 0 Status: OK PackageFile: lipidr_2.21.0.tgz PackageFileSize: 3.539 MiB