Package: lipidr Version: 2.21.0 Command: /Library/Frameworks/R.framework/Resources/bin/R CMD build --keep-empty-dirs --no-resave-data lipidr StartedAt: 2025-02-09 17:15:43 -0500 (Sun, 09 Feb 2025) EndedAt: 2025-02-09 17:16:45 -0500 (Sun, 09 Feb 2025) EllapsedTime: 61.8 seconds RetCode: 0 Status: OK PackageFile: lipidr_2.21.0.tar.gz PackageFileSize: 3.392 MiB