Package: lipidr Version: 2.21.0 Command: /Library/Frameworks/R.framework/Resources/bin/R CMD check --install=check:lipidr.install-out.txt --library=/Library/Frameworks/R.framework/Resources/library --no-vignettes --timings lipidr_2.21.0.tar.gz StartedAt: 2025-02-03 21:22:39 -0500 (Mon, 03 Feb 2025) EndedAt: 2025-02-03 21:27:38 -0500 (Mon, 03 Feb 2025) EllapsedTime: 298.9 seconds RetCode: 0 Status: OK CheckDir: lipidr.Rcheck Warnings: 0