Package: lipidr Version: 2.21.0 Command: /home/biocbuild/bbs-3.21-bioc/R/bin/R CMD build --keep-empty-dirs --no-resave-data lipidr StartedAt: 2025-02-09 17:52:22 -0500 (Sun, 09 Feb 2025) EndedAt: 2025-02-09 17:53:15 -0500 (Sun, 09 Feb 2025) EllapsedTime: 53.1 seconds RetCode: 0 Status: OK PackageFile: lipidr_2.21.0.tar.gz PackageFileSize: 3.345 MiB