Package: lipidr Version: 2.21.0 Command: /home/biocbuild/bbs-3.21-bioc/R/bin/R CMD INSTALL lipidr StartedAt: 2025-02-09 15:37:29 -0500 (Sun, 09 Feb 2025) EndedAt: 2025-02-09 15:37:58 -0500 (Sun, 09 Feb 2025) EllapsedTime: 29.2 seconds RetCode: 0 Status: OK