Package: lipidr Version: 2.21.0 Command: rm -rf lipidr.buildbin-libdir && mkdir lipidr.buildbin-libdir && E:\biocbuild\bbs-3.21-bioc\R\bin\R.exe CMD INSTALL --build --library=lipidr.buildbin-libdir lipidr_2.21.0.tar.gz StartedAt: 2025-02-04 08:15:46 -0500 (Tue, 04 Feb 2025) EndedAt: 2025-02-04 08:16:38 -0500 (Tue, 04 Feb 2025) EllapsedTime: 52.3 seconds RetCode: 0 Status: OK PackageFile: lipidr_2.21.0.zip PackageFileSize: 2.565 MiB