Package: lipidr Version: 2.21.0 Command: E:\biocbuild\bbs-3.21-bioc\R\bin\R.exe CMD check --no-multiarch --install=check:lipidr.install-out.txt --library=E:\biocbuild\bbs-3.21-bioc\R\library --no-vignettes --timings lipidr_2.21.0.tar.gz StartedAt: 2025-02-10 02:24:24 -0500 (Mon, 10 Feb 2025) EndedAt: 2025-02-10 02:32:23 -0500 (Mon, 10 Feb 2025) EllapsedTime: 479.0 seconds RetCode: 0 Status: OK CheckDir: lipidr.Rcheck Warnings: 0